BEGIN:VCALENDAR
VERSION:2.0
PRODID:-//Greater Memphis Square &amp; Round Dance Association - ECPv6.15.20//NONSGML v1.0//EN
CALSCALE:GREGORIAN
METHOD:PUBLISH
X-ORIGINAL-URL:https://www.squaredancememphis.com
X-WR-CALDESC:Events for Greater Memphis Square &amp; Round Dance Association
REFRESH-INTERVAL;VALUE=DURATION:PT1H
X-Robots-Tag:noindex
X-PUBLISHED-TTL:PT1H
BEGIN:VTIMEZONE
TZID:America/Chicago
BEGIN:DAYLIGHT
TZOFFSETFROM:-0600
TZOFFSETTO:-0500
TZNAME:CDT
DTSTART:20230312T080000
END:DAYLIGHT
BEGIN:STANDARD
TZOFFSETFROM:-0500
TZOFFSETTO:-0600
TZNAME:CST
DTSTART:20231105T070000
END:STANDARD
BEGIN:DAYLIGHT
TZOFFSETFROM:-0600
TZOFFSETTO:-0500
TZNAME:CDT
DTSTART:20240310T080000
END:DAYLIGHT
BEGIN:STANDARD
TZOFFSETFROM:-0500
TZOFFSETTO:-0600
TZNAME:CST
DTSTART:20241103T070000
END:STANDARD
BEGIN:DAYLIGHT
TZOFFSETFROM:-0600
TZOFFSETTO:-0500
TZNAME:CDT
DTSTART:20250309T080000
END:DAYLIGHT
BEGIN:STANDARD
TZOFFSETFROM:-0500
TZOFFSETTO:-0600
TZNAME:CST
DTSTART:20251102T070000
END:STANDARD
END:VTIMEZONE
BEGIN:VEVENT
DTSTART;TZID=America/Chicago:20240816T190000
DTEND;TZID=America/Chicago:20240816T210000
DTSTAMP:20260419T083949
CREATED:20231220T041406Z
LAST-MODIFIED:20241006T121104Z
UID:4220-1723834800-1723842000@www.squaredancememphis.com
SUMMARY:B&Bs 43rd Anniversary & Open House
DESCRIPTION:Mainstream and Plus Squares with Lines between Tips
URL:https://www.squaredancememphis.com/events/bbs-220/
LOCATION:Colonial Park United Methodist Church\, 5330 Park Avenue\, Memphis\, 38119\, United States
CATEGORIES:Club Dance,Special
ATTACH;FMTTYPE=application/pdf:https://www.squaredancememphis.com/wp-content/uploads/2023/12/2024.08.16_BNBsClass.pdf
END:VEVENT
END:VCALENDAR