BEGIN:VCALENDAR
VERSION:2.0
PRODID:-//Greater Memphis Square &amp; Round Dance Association - ECPv6.15.20//NONSGML v1.0//EN
CALSCALE:GREGORIAN
METHOD:PUBLISH
X-WR-CALNAME:Greater Memphis Square &amp; Round Dance Association
X-ORIGINAL-URL:https://www.squaredancememphis.com
X-WR-CALDESC:Events for Greater Memphis Square &amp; Round Dance Association
REFRESH-INTERVAL;VALUE=DURATION:PT1H
X-Robots-Tag:noindex
X-PUBLISHED-TTL:PT1H
BEGIN:VTIMEZONE
TZID:America/Chicago
BEGIN:DAYLIGHT
TZOFFSETFROM:-0600
TZOFFSETTO:-0500
TZNAME:CDT
DTSTART:20250309T080000
END:DAYLIGHT
BEGIN:STANDARD
TZOFFSETFROM:-0500
TZOFFSETTO:-0600
TZNAME:CST
DTSTART:20251102T070000
END:STANDARD
BEGIN:DAYLIGHT
TZOFFSETFROM:-0600
TZOFFSETTO:-0500
TZNAME:CDT
DTSTART:20260308T080000
END:DAYLIGHT
BEGIN:STANDARD
TZOFFSETFROM:-0500
TZOFFSETTO:-0600
TZNAME:CST
DTSTART:20261101T070000
END:STANDARD
BEGIN:DAYLIGHT
TZOFFSETFROM:-0600
TZOFFSETTO:-0500
TZNAME:CDT
DTSTART:20270314T080000
END:DAYLIGHT
BEGIN:STANDARD
TZOFFSETFROM:-0500
TZOFFSETTO:-0600
TZNAME:CST
DTSTART:20271107T070000
END:STANDARD
END:VTIMEZONE
BEGIN:VEVENT
DTSTART;TZID=America/Chicago:20260313T190000
DTEND;TZID=America/Chicago:20260313T210000
DTSTAMP:20260423T052828
CREATED:20260107T195530Z
LAST-MODIFIED:20260107T195530Z
UID:6180-1773428400-1773435600@www.squaredancememphis.com
SUMMARY:B&Bs March Madness
DESCRIPTION:Mainstream and Plus Squares with Lines between Tips
URL:https://www.squaredancememphis.com/events/bbs-march-madness-2/
LOCATION:All Saints Episcopal Church\, 1508 S. White Station Rd\, Memphis\, 38117
CATEGORIES:Club Special
END:VEVENT
BEGIN:VEVENT
DTSTART;TZID=America/Chicago:20260315T143000
DTEND;TZID=America/Chicago:20260315T163000
DTSTAMP:20260423T052828
CREATED:20251214T013656Z
LAST-MODIFIED:20251214T013656Z
UID:5933-1773585000-1773592200@www.squaredancememphis.com
SUMMARY:T-Squares
DESCRIPTION:A2\, C1
URL:https://www.squaredancememphis.com/events/t-squares-330/
LOCATION:Graceland Christian Church\, 2126 Stateline Rd\, Southaven\, 38672\, United States
CATEGORIES:Club Special
END:VEVENT
BEGIN:VEVENT
DTSTART;TZID=America/Chicago:20260316T190000
DTEND;TZID=America/Chicago:20260316T210000
DTSTAMP:20260423T052828
CREATED:20251214T014826Z
LAST-MODIFIED:20251214T014826Z
UID:5987-1773687600-1773694800@www.squaredancememphis.com
SUMMARY:Pleasant Hill Promenaders St. Patrick's Day Dance
DESCRIPTION:Mainstream and Plus Squares with Rounds and Lines between Tips
URL:https://www.squaredancememphis.com/events/pleasant-hill-promenaders-st-patricks-day-dance-4/
LOCATION:Graceland Christian Church\, 2126 Stateline Rd\, Southaven\, 38672\, United States
CATEGORIES:Club Special
END:VEVENT
END:VCALENDAR