BEGIN:VCALENDAR
VERSION:2.0
PRODID:-//Greater Memphis Square &amp; Round Dance Association - ECPv6.15.20//NONSGML v1.0//EN
CALSCALE:GREGORIAN
METHOD:PUBLISH
X-WR-CALNAME:Greater Memphis Square &amp; Round Dance Association
X-ORIGINAL-URL:https://www.squaredancememphis.com
X-WR-CALDESC:Events for Greater Memphis Square &amp; Round Dance Association
REFRESH-INTERVAL;VALUE=DURATION:PT1H
X-Robots-Tag:noindex
X-PUBLISHED-TTL:PT1H
BEGIN:VTIMEZONE
TZID:America/Chicago
BEGIN:DAYLIGHT
TZOFFSETFROM:-0600
TZOFFSETTO:-0500
TZNAME:CDT
DTSTART:20180311T080000
END:DAYLIGHT
BEGIN:STANDARD
TZOFFSETFROM:-0500
TZOFFSETTO:-0600
TZNAME:CST
DTSTART:20181104T070000
END:STANDARD
BEGIN:DAYLIGHT
TZOFFSETFROM:-0600
TZOFFSETTO:-0500
TZNAME:CDT
DTSTART:20190310T080000
END:DAYLIGHT
BEGIN:STANDARD
TZOFFSETFROM:-0500
TZOFFSETTO:-0600
TZNAME:CST
DTSTART:20191103T070000
END:STANDARD
BEGIN:DAYLIGHT
TZOFFSETFROM:-0600
TZOFFSETTO:-0500
TZNAME:CDT
DTSTART:20200308T080000
END:DAYLIGHT
BEGIN:STANDARD
TZOFFSETFROM:-0500
TZOFFSETTO:-0600
TZNAME:CST
DTSTART:20201101T070000
END:STANDARD
BEGIN:DAYLIGHT
TZOFFSETFROM:-0600
TZOFFSETTO:-0500
TZNAME:CDT
DTSTART:20210314T080000
END:DAYLIGHT
BEGIN:STANDARD
TZOFFSETFROM:-0500
TZOFFSETTO:-0600
TZNAME:CST
DTSTART:20211107T070000
END:STANDARD
BEGIN:DAYLIGHT
TZOFFSETFROM:-0600
TZOFFSETTO:-0500
TZNAME:CDT
DTSTART:20220313T080000
END:DAYLIGHT
BEGIN:STANDARD
TZOFFSETFROM:-0500
TZOFFSETTO:-0600
TZNAME:CST
DTSTART:20221106T070000
END:STANDARD
BEGIN:DAYLIGHT
TZOFFSETFROM:-0600
TZOFFSETTO:-0500
TZNAME:CDT
DTSTART:20230312T080000
END:DAYLIGHT
BEGIN:STANDARD
TZOFFSETFROM:-0500
TZOFFSETTO:-0600
TZNAME:CST
DTSTART:20231105T070000
END:STANDARD
BEGIN:DAYLIGHT
TZOFFSETFROM:-0600
TZOFFSETTO:-0500
TZNAME:CDT
DTSTART:20240310T080000
END:DAYLIGHT
BEGIN:STANDARD
TZOFFSETFROM:-0500
TZOFFSETTO:-0600
TZNAME:CST
DTSTART:20241103T070000
END:STANDARD
BEGIN:DAYLIGHT
TZOFFSETFROM:-0600
TZOFFSETTO:-0500
TZNAME:CDT
DTSTART:20250309T080000
END:DAYLIGHT
BEGIN:STANDARD
TZOFFSETFROM:-0500
TZOFFSETTO:-0600
TZNAME:CST
DTSTART:20251102T070000
END:STANDARD
END:VTIMEZONE
BEGIN:VEVENT
DTSTART;TZID=America/Chicago:20240217T140000
DTEND;TZID=America/Chicago:20240217T160000
DTSTAMP:20260420T035658
CREATED:20231129T213827Z
LAST-MODIFIED:20240207T213739Z
UID:4178-1708178400-1708185600@www.squaredancememphis.com
SUMMARY:GMS&RDA Alzheimer's Benefit Dance RESCHEDULED!
DESCRIPTION:Square and Line Dancing for Beginners.  All proceeds to benefit the Alzheimer’s Association.
URL:https://www.squaredancememphis.com/events/gmsrda-alzheimers-benefit-dance/
LOCATION:Oak Lane Christian Church\, 10611 Collierville Rd\, Collierville\, Tennessee\, 38017
CATEGORIES:Special
ATTACH;FMTTYPE=image/jpeg:https://www.squaredancememphis.com/wp-content/uploads/2023/10/2024.02.20_GMSRDA-Alzheimers-Dance.jpg
END:VEVENT
BEGIN:VEVENT
DTSTART;TZID=America/Chicago:20230510T190000
DTEND;TZID=America/Chicago:20230510T213000
DTSTAMP:20260420T035658
CREATED:20230126T154037Z
LAST-MODIFIED:20230126T155133Z
UID:3799-1683745200-1683754200@www.squaredancememphis.com
SUMMARY:GMS&RDA Memphis in May
DESCRIPTION:Advanced\, Mainstream and Plus Squares with Rounds and Lines between tips \n\n\n\nCaller Darryl Lipscomb
URL:https://www.squaredancememphis.com/events/gmsrda-memphis-in-may/
LOCATION:Bartlett United Methodist Church\, 5676 Stage Rd.\, Bartlett\, 38134\, United States
CATEGORIES:Special
ATTACH;FMTTYPE=application/pdf:https://www.squaredancememphis.com/wp-content/uploads/2023/01/2023.05.10_MemphisinMay_Lipscomb.pdf
END:VEVENT
BEGIN:VEVENT
DTSTART;TZID=America/Chicago:20230203T190000
DTEND;TZID=America/Chicago:20230203T210000
DTSTAMP:20260420T035658
CREATED:20221206T001509Z
LAST-MODIFIED:20230127T200126Z
UID:3413-1675450800-1675458000@www.squaredancememphis.com
SUMMARY:GMS&RDA Awards & Recognition Dance
DESCRIPTION:Mainstream and Plus Squares
URL:https://www.squaredancememphis.com/events/bbs-143/
LOCATION:Colonial Park United Methodist Church\, 5330 Park Avenue\, Memphis\, 38119\, United States
CATEGORIES:Special
ATTACH;FMTTYPE=image/jpeg:https://www.squaredancememphis.com/wp-content/uploads/2022/12/2023.01.27_AR-Dance-2022-scaled.jpg
END:VEVENT
BEGIN:VEVENT
DTSTART;TZID=America/Chicago:20230127T190000
DTEND;TZID=America/Chicago:20230127T210000
DTSTAMP:20260420T035658
CREATED:20221206T001509Z
LAST-MODIFIED:20230127T195851Z
UID:3412-1674846000-1674853200@www.squaredancememphis.com
SUMMARY:B&Bs CLOSED
DESCRIPTION:Mainstream and Plus Squares
URL:https://www.squaredancememphis.com/events/bbs-142/
LOCATION:Colonial Park United Methodist Church\, 5330 Park Avenue\, Memphis\, 38119\, United States
CATEGORIES:Special
ATTACH;FMTTYPE=image/jpeg:https://www.squaredancememphis.com/wp-content/uploads/2022/12/2023.01.27_AR-Dance-2022-scaled.jpg
END:VEVENT
BEGIN:VEVENT
DTSTART;TZID=America/Chicago:20230113T190000
DTEND;TZID=America/Chicago:20230113T210000
DTSTAMP:20260420T035658
CREATED:20221206T001509Z
LAST-MODIFIED:20230109T212553Z
UID:3410-1673636400-1673643600@www.squaredancememphis.com
SUMMARY:B&Bs
DESCRIPTION:Mainstream and Plus Squares
URL:https://www.squaredancememphis.com/events/bbs-140/
LOCATION:Colonial Park United Methodist Church\, 5330 Park Avenue\, Memphis\, 38119\, United States
CATEGORIES:Special
END:VEVENT
BEGIN:VEVENT
DTSTART;TZID=America/Chicago:20220313T183000
DTEND;TZID=America/Chicago:20220313T210000
DTSTAMP:20260420T035658
CREATED:20220227T233128Z
LAST-MODIFIED:20220227T234155Z
UID:3119-1647196200-1647205200@www.squaredancememphis.com
SUMMARY:Riverboat Rendezvous
DESCRIPTION:FREE for all dancers! Casual attire
URL:https://www.squaredancememphis.com/events/riverboat-rendezvous/
CATEGORIES:Special
ATTACH;FMTTYPE=application/pdf:https://www.squaredancememphis.com/wp-content/uploads/2022/02/2022-03-13-Memphis-BW.pdf
END:VEVENT
BEGIN:VEVENT
DTSTART;TZID=America/Chicago:20211202T190000
DTEND;TZID=America/Chicago:20211202T210000
DTSTAMP:20260420T035658
CREATED:20211007T002629Z
LAST-MODIFIED:20211007T024037Z
UID:2531-1638471600-1638478800@www.squaredancememphis.com
SUMMARY:GMSRDA Christmas Dance
DESCRIPTION:Mainstream and Plus Squares with Lines between Tips
URL:https://www.squaredancememphis.com/events/gmsrda-christmas-dance-2/
LOCATION:Eads Civic Center\, 12365 Washington Rd\, Eads\, 38028\, United States
CATEGORIES:Special
END:VEVENT
BEGIN:VEVENT
DTSTART;TZID=America/Chicago:20211028T190000
DTEND;TZID=America/Chicago:20211028T210000
DTSTAMP:20260420T035658
CREATED:20211007T002614Z
LAST-MODIFIED:20211007T024023Z
UID:2526-1635447600-1635454800@www.squaredancememphis.com
SUMMARY:Top Spinners Haunted Halloween Dance
DESCRIPTION:Special Guest Caller Robert Townsend
URL:https://www.squaredancememphis.com/events/top-spinners-haunted-halloween-dance/
LOCATION:Eads Civic Center\, 12365 Washington Rd\, Eads\, 38028\, United States
CATEGORIES:Special
END:VEVENT
BEGIN:VEVENT
DTSTART;TZID=America/Chicago:20201214T193000
DTEND;TZID=America/Chicago:20201214T213000
DTSTAMP:20260420T035658
CREATED:20191204T164336Z
LAST-MODIFIED:20191204T164336Z
UID:1666-1607974200-1607981400@www.squaredancememphis.com
SUMMARY:Pleasant Hill Promenaders Jingle Bell Jam
DESCRIPTION:Mainstream and Plus Squares with Rounds and Lines between Tips
URL:https://www.squaredancememphis.com/events/pleasant-hill-promenaders-jingle-bell-jam/
LOCATION:Graceland Christian Church\, 2126 Stateline Rd\, Southaven\, 38672\, United States
CATEGORIES:Special
END:VEVENT
BEGIN:VEVENT
DTSTART;TZID=America/Chicago:20201130T193000
DTEND;TZID=America/Chicago:20201130T213000
DTSTAMP:20260420T035658
CREATED:20191204T164331Z
LAST-MODIFIED:20191204T164331Z
UID:1662-1606764600-1606771800@www.squaredancememphis.com
SUMMARY:Pleasant Hill Promenaders Robert's Woodstock Birthday Dance
DESCRIPTION:Mainstream and Plus Squares with Rounds and Lines between Tips
URL:https://www.squaredancememphis.com/events/pleasant-hill-promenaders-roberts-woodstock-birthday-dance/
LOCATION:Graceland Christian Church\, 2126 Stateline Rd\, Southaven\, 38672\, United States
CATEGORIES:Special
END:VEVENT
BEGIN:VEVENT
DTSTART;TZID=America/Chicago:20201102T193000
DTEND;TZID=America/Chicago:20201102T213000
DTSTAMP:20260420T035658
CREATED:20191204T164323Z
LAST-MODIFIED:20191204T164323Z
UID:1654-1604345400-1604352600@www.squaredancememphis.com
SUMMARY:Pleasant Hill Promenaders Dia de los Muertos Dance
DESCRIPTION:Mainstream and Plus Squares with Rounds and Lines between Tips
URL:https://www.squaredancememphis.com/events/pleasant-hill-promenaders-dia-de-los-muertos-dance/
LOCATION:Graceland Christian Church\, 2126 Stateline Rd\, Southaven\, 38672\, United States
CATEGORIES:Special
END:VEVENT
BEGIN:VEVENT
DTSTART;TZID=America/Chicago:20201030T193000
DTEND;TZID=America/Chicago:20201030T213000
DTSTAMP:20260420T035658
CREATED:20191022T153457Z
LAST-MODIFIED:20191022T153457Z
UID:1473-1604086200-1604093400@www.squaredancememphis.com
SUMMARY:B&Bs Halloween Dance
DESCRIPTION:Mainstream and Plus Squares with Rounds and Lines between Tips
URL:https://www.squaredancememphis.com/events/bbs-halloween-dance/
LOCATION:Colonial Park United Methodist Church\, 5330 Park Avenue\, Memphis\, 38119\, United States
CATEGORIES:Special
END:VEVENT
BEGIN:VEVENT
DTSTART;TZID=America/Chicago:20201026T193000
DTEND;TZID=America/Chicago:20201026T213000
DTSTAMP:20260420T035658
CREATED:20191204T164318Z
LAST-MODIFIED:20191204T164318Z
UID:1652-1603740600-1603747800@www.squaredancememphis.com
SUMMARY:Pleasant Hill Promenaders Monster Mash Dance
DESCRIPTION:Mainstream and Plus Squares with Rounds and Lines between Tips
URL:https://www.squaredancememphis.com/events/pleasant-hill-promenaders-monster-mash-dance/
LOCATION:Graceland Christian Church\, 2126 Stateline Rd\, Southaven\, 38672\, United States
CATEGORIES:Special
END:VEVENT
BEGIN:VEVENT
DTSTART;TZID=America/Chicago:20200821T193000
DTEND;TZID=America/Chicago:20200821T213000
DTSTAMP:20260420T035658
CREATED:20191022T153442Z
LAST-MODIFIED:20191022T153442Z
UID:1464-1598038200-1598045400@www.squaredancememphis.com
SUMMARY:B&Bs Anniversary Dance
DESCRIPTION:Mainstream and Plus Squares with Rounds and Lines between Tips
URL:https://www.squaredancememphis.com/events/bbs-anniversary-dance/
LOCATION:Colonial Park United Methodist Church\, 5330 Park Avenue\, Memphis\, 38119\, United States
CATEGORIES:Special
END:VEVENT
BEGIN:VEVENT
DTSTART;TZID=America/Chicago:20200817T193000
DTEND;TZID=America/Chicago:20200817T213000
DTSTAMP:20260420T035658
CREATED:20191204T164256Z
LAST-MODIFIED:20191204T164256Z
UID:1632-1597692600-1597699800@www.squaredancememphis.com
SUMMARY:Pleasant Hill Promenaders Gloria's Birthday Dance
DESCRIPTION:Mainstream and Plus Squares with Rounds and Lines between Tips
URL:https://www.squaredancememphis.com/events/pleasant-hill-promenaders-glorias-birthday-dance/
LOCATION:Graceland Christian Church\, 2126 Stateline Rd\, Southaven\, 38672\, United States
CATEGORIES:Special
END:VEVENT
BEGIN:VEVENT
DTSTART;TZID=America/Chicago:20200720T193000
DTEND;TZID=America/Chicago:20200720T213000
DTSTAMP:20260420T035658
CREATED:20191204T164247Z
LAST-MODIFIED:20191204T164247Z
UID:1624-1595273400-1595280600@www.squaredancememphis.com
SUMMARY:Pleasant Hill Promenaders Gender Switch Dance
DESCRIPTION:Mainstream and Plus Squares with Rounds and Lines between Tips
URL:https://www.squaredancememphis.com/events/pleasant-hill-promenaders-gender-switch-dance/
LOCATION:Graceland Christian Church\, 2126 Stateline Rd\, Southaven\, 38672\, United States
CATEGORIES:Special
END:VEVENT
BEGIN:VEVENT
DTSTART;TZID=America/Chicago:20200717T193000
DTEND;TZID=America/Chicago:20200717T213000
DTSTAMP:20260420T035658
CREATED:20191022T153436Z
LAST-MODIFIED:20191022T153436Z
UID:1460-1595014200-1595021400@www.squaredancememphis.com
SUMMARY:B&Bs Christmas in July
DESCRIPTION:Mainstream and Plus Squares with Rounds and Lines between Tips
URL:https://www.squaredancememphis.com/events/bbs-christmas-in-july-3/
LOCATION:Colonial Park United Methodist Church\, 5330 Park Avenue\, Memphis\, 38119\, United States
CATEGORIES:Special
END:VEVENT
BEGIN:VEVENT
DTSTART;TZID=America/Chicago:20200601T193000
DTEND;TZID=America/Chicago:20200601T213000
DTSTAMP:20260420T035658
CREATED:20191204T164228Z
LAST-MODIFIED:20191204T164228Z
UID:1610-1591039800-1591047000@www.squaredancememphis.com
SUMMARY:Pleasant Hill Promenaders Beach Party Dance
DESCRIPTION:Mainstream and Plus Squares with Rounds and Lines between Tips
URL:https://www.squaredancememphis.com/events/pleasant-hill-promenaders-beach-party-dance/
LOCATION:Graceland Christian Church\, 2126 Stateline Rd\, Southaven\, 38672\, United States
CATEGORIES:Special
END:VEVENT
BEGIN:VEVENT
DTSTART;TZID=America/Chicago:20200511T193000
DTEND;TZID=America/Chicago:20200511T213000
DTSTAMP:20260420T035658
CREATED:20191204T164221Z
LAST-MODIFIED:20191204T164221Z
UID:1604-1589225400-1589232600@www.squaredancememphis.com
SUMMARY:Pleasant Hill Promenaders Circus Anniversary Dance
DESCRIPTION:Mainstream and Plus Squares with Rounds and Lines between Tips
URL:https://www.squaredancememphis.com/events/pleasant-hill-promenaders-circus-anniversary-dance/
LOCATION:Graceland Christian Church\, 2126 Stateline Rd\, Southaven\, 38672\, United States
CATEGORIES:Special
END:VEVENT
BEGIN:VEVENT
DTSTART;TZID=America/Chicago:20200404T200000
DTEND;TZID=America/Chicago:20200404T220000
DTSTAMP:20260420T035658
CREATED:20191231T182150Z
LAST-MODIFIED:20200316T202739Z
UID:2196-1586030400-1586037600@www.squaredancememphis.com
SUMMARY:Pistols & Petticoats Gordon Brower Birthday Dance (Class 7 of 12)
DESCRIPTION:Class 7:30-8:30. Mainstream and Plus Squares with Rounds between Tips 8:30-10:00.
URL:https://www.squaredancememphis.com/events/pistols-petticoats-gordon-brower-birthday-dance-class-9-of-12/
LOCATION:Bartlett United Methodist Church\, 5676 Stage Rd.\, Bartlett\, 38134\, United States
CATEGORIES:Special
END:VEVENT
BEGIN:VEVENT
DTSTART;TZID=America/Chicago:20200222T193000
DTEND;TZID=America/Chicago:20200222T220000
DTSTAMP:20260420T035658
CREATED:20191231T182145Z
LAST-MODIFIED:20200129T212652Z
UID:2190-1582399800-1582408800@www.squaredancememphis.com
SUMMARY:Pistols & Petticoats Mardi Gras (Class 3 of 12)
DESCRIPTION:Class 7:30-8:30. Mainstream and Plus Squares with Rounds between Tips 8:30-10:00.
URL:https://www.squaredancememphis.com/events/pistols-petticoats-mardi-gras-class-3-of-12/
LOCATION:Bartlett United Methodist Church\, 5676 Stage Rd.\, Bartlett\, 38134\, United States
CATEGORIES:Special
ATTACH;FMTTYPE=application/pdf:https://www.squaredancememphis.com/wp-content/uploads/2019/12/2020.02.22_MardiGras_PNP.pdf
END:VEVENT
BEGIN:VEVENT
DTSTART;TZID=America/Chicago:20200203T193000
DTEND;TZID=America/Chicago:20200203T213000
DTSTAMP:20260420T035658
CREATED:20191204T164149Z
LAST-MODIFIED:20200201T182104Z
UID:1576-1580758200-1580765400@www.squaredancememphis.com
SUMMARY:Pleasant Hill Promenaders Mighty Hunters Dance
DESCRIPTION:Mainstream and Plus Squares with Rounds and Lines between Tips
URL:https://www.squaredancememphis.com/events/pleasant-hill-promenaders-mighty-hunters-dance/
LOCATION:Graceland Christian Church\, 2126 Stateline Rd\, Southaven\, 38672\, United States
CATEGORIES:Special
ATTACH;FMTTYPE=application/pdf:https://www.squaredancememphis.com/wp-content/uploads/2019/12/2020.02.03_PHPHunting-Flyer.pdf
END:VEVENT
BEGIN:VEVENT
DTSTART;TZID=America/Chicago:20200124T193000
DTEND;TZID=America/Chicago:20200124T213000
DTSTAMP:20260420T035658
CREATED:20191022T153353Z
LAST-MODIFIED:20191022T153353Z
UID:1435-1579894200-1579901400@www.squaredancememphis.com
SUMMARY:B&Bs Souper Bowl
DESCRIPTION:Mainstream and Plus Squares with Rounds and Lines between Tips
URL:https://www.squaredancememphis.com/events/bbs-souper-bowl/
LOCATION:Colonial Park United Methodist Church\, 5330 Park Avenue\, Memphis\, 38119\, United States
CATEGORIES:Special
END:VEVENT
BEGIN:VEVENT
DTSTART;TZID=America/Chicago:20200120T193000
DTEND;TZID=America/Chicago:20200120T213000
DTSTAMP:20260420T035658
CREATED:20191204T164144Z
LAST-MODIFIED:20191204T164144Z
UID:1572-1579548600-1579555800@www.squaredancememphis.com
SUMMARY:Pleasant Hill Promenaders Pajama Dance Party
DESCRIPTION:Mainstream and Plus Squares with Rounds and Lines between Tips
URL:https://www.squaredancememphis.com/events/pleasant-hill-promenaders-pajama-dance-party/
LOCATION:Graceland Christian Church\, 2126 Stateline Rd\, Southaven\, 38672\, United States
CATEGORIES:Special
END:VEVENT
BEGIN:VEVENT
DTSTART;TZID=America/Chicago:20191206T190000
DTEND;TZID=America/Chicago:20191206T214500
DTSTAMP:20260420T035658
CREATED:20191022T145720Z
LAST-MODIFIED:20191022T150732Z
UID:1416-1575658800-1575668700@www.squaredancememphis.com
SUMMARY:GMSRDA Christmas Dance
DESCRIPTION:Free to GMSRDA members. $5.00 for non-members. Toy donations accepted for Toys for Tots
URL:https://www.squaredancememphis.com/events/gmsrda-christmas-dance/
LOCATION:Colonial Park United Methodist Church\, 5330 Park Avenue\, Memphis\, 38119\, United States
CATEGORIES:Special
ATTACH;FMTTYPE=application/pdf:https://www.squaredancememphis.com/wp-content/uploads/2019/10/2019.12.06_GMSRDAChistmas-Flyer.pdf
END:VEVENT
BEGIN:VEVENT
DTSTART;TZID=America/Chicago:20191205T200000
DTEND;TZID=America/Chicago:20191205T220000
DTSTAMP:20260420T035658
CREATED:20190412T012611Z
LAST-MODIFIED:20190529T215036Z
UID:276-1575576000-1575583200@www.squaredancememphis.com
SUMMARY:Top Spinners Home for the Holidays
DESCRIPTION:
URL:https://www.squaredancememphis.com/events/top-spinners-home-for-the-holidays/
LOCATION:Eads Civic Center\, 12365 Washington Rd\, Eads\, 38028\, United States
CATEGORIES:Special
END:VEVENT
BEGIN:VEVENT
DTSTART;TZID=America/Chicago:20191125T193000
DTEND;TZID=America/Chicago:20191125T213000
DTSTAMP:20260420T035658
CREATED:20190424T001223Z
LAST-MODIFIED:20190529T215031Z
UID:971-1574710200-1574717400@www.squaredancememphis.com
SUMMARY:Pleasant Hill Promenaders Birthday Dance
DESCRIPTION:Happy Birthday Robert!
URL:https://www.squaredancememphis.com/events/pleasant-hill-promenaders-birthday-dance-2/
LOCATION:Graceland Christian Church\, 2126 Stateline Rd\, Southaven\, 38672\, United States
CATEGORIES:Special
END:VEVENT
BEGIN:VEVENT
DTSTART;TZID=America/Chicago:20191031T200000
DTEND;TZID=America/Chicago:20191031T220000
DTSTAMP:20260420T035658
CREATED:20190424T001223Z
LAST-MODIFIED:20190529T215017Z
UID:970-1572552000-1572559200@www.squaredancememphis.com
SUMMARY:Top Spinners Haunted House Dance
DESCRIPTION:Happy Halloween!
URL:https://www.squaredancememphis.com/events/top-spinners-haunted-house-dance/
LOCATION:Eads Civic Center\, 12365 Washington Rd\, Eads\, 38028\, United States
CATEGORIES:Special
END:VEVENT
BEGIN:VEVENT
DTSTART;TZID=America/Chicago:20191028T193000
DTEND;TZID=America/Chicago:20191028T213000
DTSTAMP:20260420T035658
CREATED:20190420T212324Z
LAST-MODIFIED:20191003T230935Z
UID:665-1572291000-1572298200@www.squaredancememphis.com
SUMMARY:Pleasant Hill Promenaders Halloween Dance
DESCRIPTION:Mainstream and Plus Squares with Rounds and Lines between Tips
URL:https://www.squaredancememphis.com/events/pleasant-hill-promenaders-23/
LOCATION:Graceland Christian Church\, 2126 Stateline Rd\, Southaven\, 38672\, United States
CATEGORIES:Special
ATTACH;FMTTYPE=application/pdf:https://www.squaredancememphis.com/wp-content/uploads/2019/04/2019.10.28_PHP_Halloween.pdf
END:VEVENT
BEGIN:VEVENT
DTSTART;TZID=America/Chicago:20191012T200000
DTEND;TZID=America/Chicago:20191012T220000
DTSTAMP:20260420T035658
CREATED:20190423T214029Z
LAST-MODIFIED:20190926T161207Z
UID:932-1570910400-1570917600@www.squaredancememphis.com
SUMMARY:Pistols & Petticoats Sock Hop and Root Beer Floats Guest Caller Hunter Keller
DESCRIPTION:
URL:https://www.squaredancememphis.com/events/pistols-petticoats-sock-hop-and-root-beer-floats/
LOCATION:Bartlett United Methodist Church\, 5676 Stage Rd.\, Bartlett\, 38134\, United States
CATEGORIES:Special
ATTACH;FMTTYPE=application/pdf:https://www.squaredancememphis.com/wp-content/uploads/2019/04/Sock-Hop-1.pdf
END:VEVENT
END:VCALENDAR