BEGIN:VCALENDAR
VERSION:2.0
PRODID:-//Greater Memphis Square &amp; Round Dance Association - ECPv6.15.20//NONSGML v1.0//EN
CALSCALE:GREGORIAN
METHOD:PUBLISH
X-ORIGINAL-URL:https://www.squaredancememphis.com
X-WR-CALDESC:Events for Greater Memphis Square &amp; Round Dance Association
REFRESH-INTERVAL;VALUE=DURATION:PT1H
X-Robots-Tag:noindex
X-PUBLISHED-TTL:PT1H
BEGIN:VTIMEZONE
TZID:America/Chicago
BEGIN:DAYLIGHT
TZOFFSETFROM:-0600
TZOFFSETTO:-0500
TZNAME:CDT
DTSTART:20180311T080000
END:DAYLIGHT
BEGIN:STANDARD
TZOFFSETFROM:-0500
TZOFFSETTO:-0600
TZNAME:CST
DTSTART:20181104T070000
END:STANDARD
BEGIN:DAYLIGHT
TZOFFSETFROM:-0600
TZOFFSETTO:-0500
TZNAME:CDT
DTSTART:20190310T080000
END:DAYLIGHT
BEGIN:STANDARD
TZOFFSETFROM:-0500
TZOFFSETTO:-0600
TZNAME:CST
DTSTART:20191103T070000
END:STANDARD
BEGIN:DAYLIGHT
TZOFFSETFROM:-0600
TZOFFSETTO:-0500
TZNAME:CDT
DTSTART:20200308T080000
END:DAYLIGHT
BEGIN:STANDARD
TZOFFSETFROM:-0500
TZOFFSETTO:-0600
TZNAME:CST
DTSTART:20201101T070000
END:STANDARD
END:VTIMEZONE
BEGIN:VEVENT
DTSTART;TZID=America/Chicago:20190615T200000
DTEND;TZID=America/Chicago:20190615T220000
DTSTAMP:20260420T111143
CREATED:20190423T214028Z
LAST-MODIFIED:20190529T214857Z
UID:929-1560628800-1560636000@www.squaredancememphis.com
SUMMARY:Pistols & Petticoats Hawaiian Luau Dance
DESCRIPTION:Come join us for the Luau!
URL:https://www.squaredancememphis.com/events/pistols-petticoats-hawaiian-luau-dance/
LOCATION:Bartlett United Methodist Church\, 5676 Stage Rd.\, Bartlett\, 38134\, United States
CATEGORIES:Special
ATTACH;FMTTYPE=application/pdf:https://www.squaredancememphis.com/wp-content/uploads/2019/04/2019.06.15_Hawaiian-Luau-flyer.pdf
END:VEVENT
BEGIN:VEVENT
DTSTART;TZID=America/Chicago:20190613T190000
DTEND;TZID=America/Chicago:20190613T213000
DTSTAMP:20260420T111143
CREATED:20190529T154445Z
LAST-MODIFIED:20190529T214857Z
UID:1126-1560452400-1560461400@www.squaredancememphis.com
SUMMARY:Top Spinners
DESCRIPTION:Special Caller Jerry Junck
URL:https://www.squaredancememphis.com/events/top-spinners-29/
LOCATION:Eads Civic Center\, 12365 Washington Rd\, Eads\, 38028\, United States
CATEGORIES:Special
ATTACH;FMTTYPE=application/pdf:https://www.squaredancememphis.com/wp-content/uploads/2019/05/2019.06.13_Jerry-Junck-Jubilee-2019.pdf
END:VEVENT
BEGIN:VEVENT
DTSTART;TZID=America/Chicago:20190508T190000
DTEND;TZID=America/Chicago:20190508T213000
DTSTAMP:20260420T111143
CREATED:20190421T213949Z
LAST-MODIFIED:20190529T214849Z
UID:805-1557342000-1557351000@www.squaredancememphis.com
SUMMARY:Memphis in May
DESCRIPTION:
URL:https://www.squaredancememphis.com/events/memphis-in-may/
LOCATION:Eads Civic Center\, 12365 Washington Rd\, Eads\, 38028\, United States
CATEGORIES:Special
ATTACH;FMTTYPE=application/pdf:https://www.squaredancememphis.com/wp-content/uploads/2019/04/2019MemphisinMay-1.pdf
END:VEVENT
BEGIN:VEVENT
DTSTART;TZID=America/Chicago:20190501T190000
DTEND;TZID=America/Chicago:20190501T213000
DTSTAMP:20260420T111143
CREATED:20190423T143539Z
LAST-MODIFIED:20190529T214849Z
UID:889-1556737200-1556746200@www.squaredancememphis.com
SUMMARY:May Pole Benefit Dance
DESCRIPTION:All proceeds will go towards Victoria Bundy’s caller school expenses. Pre-Rounds begin at 7:00PM. Squares and Rounds 7:30PM-9:30PM.
URL:https://www.squaredancememphis.com/events/may-pole-benefit-dance-2/
LOCATION:Bartlett United Methodist Church\, 5676 Stage Rd.\, Bartlett\, 38134\, United States
CATEGORIES:Special
ATTACH;FMTTYPE=application/pdf:https://www.squaredancememphis.com/wp-content/uploads/2019/04/2019.05.01_MayPoleDance-1.pdf
END:VEVENT
END:VCALENDAR