BEGIN:VCALENDAR
VERSION:2.0
PRODID:-//Greater Memphis Square &amp; Round Dance Association - ECPv6.15.20//NONSGML v1.0//EN
CALSCALE:GREGORIAN
METHOD:PUBLISH
X-WR-CALNAME:Greater Memphis Square &amp; Round Dance Association
X-ORIGINAL-URL:https://www.squaredancememphis.com
X-WR-CALDESC:Events for Greater Memphis Square &amp; Round Dance Association
REFRESH-INTERVAL;VALUE=DURATION:PT1H
X-Robots-Tag:noindex
X-PUBLISHED-TTL:PT1H
BEGIN:VTIMEZONE
TZID:America/Chicago
BEGIN:DAYLIGHT
TZOFFSETFROM:-0600
TZOFFSETTO:-0500
TZNAME:CDT
DTSTART:20220313T080000
END:DAYLIGHT
BEGIN:STANDARD
TZOFFSETFROM:-0500
TZOFFSETTO:-0600
TZNAME:CST
DTSTART:20221106T070000
END:STANDARD
BEGIN:DAYLIGHT
TZOFFSETFROM:-0600
TZOFFSETTO:-0500
TZNAME:CDT
DTSTART:20230312T080000
END:DAYLIGHT
BEGIN:STANDARD
TZOFFSETFROM:-0500
TZOFFSETTO:-0600
TZNAME:CST
DTSTART:20231105T070000
END:STANDARD
BEGIN:DAYLIGHT
TZOFFSETFROM:-0600
TZOFFSETTO:-0500
TZNAME:CDT
DTSTART:20240310T080000
END:DAYLIGHT
BEGIN:STANDARD
TZOFFSETFROM:-0500
TZOFFSETTO:-0600
TZNAME:CST
DTSTART:20241103T070000
END:STANDARD
END:VTIMEZONE
BEGIN:VEVENT
DTSTART;TZID=America/Chicago:20230303T190000
DTEND;TZID=America/Chicago:20230303T210000
DTSTAMP:20260425T063813
CREATED:20221206T001511Z
LAST-MODIFIED:20221206T001511Z
UID:3417-1677870000-1677877200@www.squaredancememphis.com
SUMMARY:B&Bs
DESCRIPTION:Mainstream and Plus Squares
URL:https://www.squaredancememphis.com/events/bbs-147/
LOCATION:Colonial Park United Methodist Church\, 5330 Park Avenue\, Memphis\, 38119\, United States
CATEGORIES:Club Dance
END:VEVENT
BEGIN:VEVENT
DTSTART;TZID=America/Chicago:20230302T200000
DTEND;TZID=America/Chicago:20230302T213000
DTSTAMP:20260425T063813
CREATED:20221206T010933Z
LAST-MODIFIED:20221206T010933Z
UID:3539-1677787200-1677792600@www.squaredancememphis.com
SUMMARY:Top Spinners
DESCRIPTION:Squares with Lines between tips
URL:https://www.squaredancememphis.com/events/top-spinners-139/
LOCATION:Eads Civic Center\, 12365 Washington Rd\, Eads\, 38028\, United States
CATEGORIES:Club Dance
END:VEVENT
BEGIN:VEVENT
DTSTART;TZID=America/Chicago:20230302T184500
DTEND;TZID=America/Chicago:20230302T200000
DTSTAMP:20260425T063813
CREATED:20221206T010847Z
LAST-MODIFIED:20221206T010847Z
UID:3527-1677782700-1677787200@www.squaredancememphis.com
SUMMARY:Top Spinners Class
DESCRIPTION:SSD Class
URL:https://www.squaredancememphis.com/events/top-spinners-class-4/
LOCATION:Eads Civic Center\, 12365 Washington Rd\, Eads\, 38028\, United States
CATEGORIES:Class
END:VEVENT
BEGIN:VEVENT
DTSTART;TZID=America/Chicago:20230301T200000
DTEND;TZID=America/Chicago:20230301T213000
DTSTAMP:20260425T063813
CREATED:20221206T035819Z
LAST-MODIFIED:20221206T035819Z
UID:3560-1677700800-1677706200@www.squaredancememphis.com
SUMMARY:Pistols & Petticoats
DESCRIPTION:Mainstream and Plus Squares with Rounds between Tips
URL:https://www.squaredancememphis.com/events/pistols-petticoats-99/
LOCATION:Bartlett United Methodist Church\, 5676 Stage Rd.\, Bartlett\, 38134\, United States
CATEGORIES:Club Dance
END:VEVENT
BEGIN:VEVENT
DTSTART;TZID=America/Chicago:20230301T190000
DTEND;TZID=America/Chicago:20230301T200000
DTSTAMP:20260425T063813
CREATED:20221206T035904Z
LAST-MODIFIED:20221230T181803Z
UID:3578-1677697200-1677700800@www.squaredancememphis.com
SUMMARY:Pistols & Petticoats Class (5 of 14)
DESCRIPTION:Mainstream Class
URL:https://www.squaredancememphis.com/events/pistols-petticoats-class-5/
LOCATION:Bartlett United Methodist Church\, 5676 Stage Rd.\, Bartlett\, 38134\, United States
CATEGORIES:Class
END:VEVENT
BEGIN:VEVENT
DTSTART;TZID=America/Chicago:20230227T190000
DTEND;TZID=America/Chicago:20230227T210000
DTSTAMP:20260425T063813
CREATED:20221208T000439Z
LAST-MODIFIED:20221208T000439Z
UID:3714-1677524400-1677531600@www.squaredancememphis.com
SUMMARY:Merry-Go-Rounds
DESCRIPTION:Phase II-VI
URL:https://www.squaredancememphis.com/events/merry-go-rounds-147/
LOCATION:Berclair Civic Club\, 743 Novarese Road\, Memphis\, TN\, 38122\, United States
CATEGORIES:Club Dance
END:VEVENT
BEGIN:VEVENT
DTSTART;TZID=America/Chicago:20230227T190000
DTEND;TZID=America/Chicago:20230227T210000
DTSTAMP:20260425T063813
CREATED:20221207T235138Z
LAST-MODIFIED:20221207T235138Z
UID:3660-1677524400-1677531600@www.squaredancememphis.com
SUMMARY:Pleasant Hill Promenaders
DESCRIPTION:Mainstream and Plus Squares with Rounds and Lines between Tips
URL:https://www.squaredancememphis.com/events/pleasant-hill-promenaders-150/
LOCATION:Graceland Christian Church\, 2126 Stateline Rd\, Southaven\, 38672\, United States
CATEGORIES:Club Dance
END:VEVENT
BEGIN:VEVENT
DTSTART;TZID=America/Chicago:20230226T143000
DTEND;TZID=America/Chicago:20230226T163000
DTSTAMP:20260425T063813
CREATED:20221206T002001Z
LAST-MODIFIED:20221206T002001Z
UID:3471-1677421800-1677429000@www.squaredancememphis.com
SUMMARY:T-Squares
DESCRIPTION:Advanced Squares A2-C1
URL:https://www.squaredancememphis.com/events/t-squares-174/
LOCATION:Graceland Christian Church\, 2126 Stateline Rd\, Southaven\, 38672\, United States
CATEGORIES:Club Dance
END:VEVENT
BEGIN:VEVENT
DTSTART;TZID=America/Chicago:20230224T190000
DTEND;TZID=America/Chicago:20230224T210000
DTSTAMP:20260425T063813
CREATED:20221206T001511Z
LAST-MODIFIED:20221206T001511Z
UID:3416-1677265200-1677272400@www.squaredancememphis.com
SUMMARY:B&Bs
DESCRIPTION:Mainstream and Plus Squares
URL:https://www.squaredancememphis.com/events/bbs-146/
LOCATION:Colonial Park United Methodist Church\, 5330 Park Avenue\, Memphis\, 38119\, United States
CATEGORIES:Club Dance
END:VEVENT
BEGIN:VEVENT
DTSTART;TZID=America/Chicago:20230223T200000
DTEND;TZID=America/Chicago:20230223T213000
DTSTAMP:20260425T063813
CREATED:20221206T010918Z
LAST-MODIFIED:20221206T010918Z
UID:3538-1677182400-1677187800@www.squaredancememphis.com
SUMMARY:Top Spinners
DESCRIPTION:Squares with Lines between tips
URL:https://www.squaredancememphis.com/events/top-spinners-138/
LOCATION:Eads Civic Center\, 12365 Washington Rd\, Eads\, 38028\, United States
CATEGORIES:Club Dance
END:VEVENT
BEGIN:VEVENT
DTSTART;TZID=America/Chicago:20230223T184500
DTEND;TZID=America/Chicago:20230223T200000
DTSTAMP:20260425T063813
CREATED:20221206T010847Z
LAST-MODIFIED:20221206T010847Z
UID:3526-1677177900-1677182400@www.squaredancememphis.com
SUMMARY:Top Spinners Class
DESCRIPTION:SSD Class
URL:https://www.squaredancememphis.com/events/top-spinners-class-3/
LOCATION:Eads Civic Center\, 12365 Washington Rd\, Eads\, 38028\, United States
CATEGORIES:Class
END:VEVENT
BEGIN:VEVENT
DTSTART;TZID=America/Chicago:20230222T200000
DTEND;TZID=America/Chicago:20230222T213000
DTSTAMP:20260425T063813
CREATED:20221206T035818Z
LAST-MODIFIED:20221206T035819Z
UID:3559-1677096000-1677101400@www.squaredancememphis.com
SUMMARY:Pistols & Petticoats
DESCRIPTION:Mainstream and Plus Squares with Rounds between Tips
URL:https://www.squaredancememphis.com/events/pistols-petticoats-98/
LOCATION:Bartlett United Methodist Church\, 5676 Stage Rd.\, Bartlett\, 38134\, United States
CATEGORIES:Club Dance
END:VEVENT
BEGIN:VEVENT
DTSTART;TZID=America/Chicago:20230222T190000
DTEND;TZID=America/Chicago:20230222T200000
DTSTAMP:20260425T063813
CREATED:20221206T035904Z
LAST-MODIFIED:20221230T181717Z
UID:3577-1677092400-1677096000@www.squaredancememphis.com
SUMMARY:Pistols & Petticoats Class (4 of 14)
DESCRIPTION:Mainstream Class
URL:https://www.squaredancememphis.com/events/pistols-petticoats-class-4/
LOCATION:Bartlett United Methodist Church\, 5676 Stage Rd.\, Bartlett\, 38134\, United States
CATEGORIES:Class
END:VEVENT
BEGIN:VEVENT
DTSTART;TZID=America/Chicago:20230220T190000
DTEND;TZID=America/Chicago:20230220T210000
DTSTAMP:20260425T063813
CREATED:20221208T000439Z
LAST-MODIFIED:20221208T000439Z
UID:3713-1676919600-1676926800@www.squaredancememphis.com
SUMMARY:Merry-Go-Rounds
DESCRIPTION:Phase II-VI
URL:https://www.squaredancememphis.com/events/merry-go-rounds-146/
LOCATION:Berclair Civic Club\, 743 Novarese Road\, Memphis\, TN\, 38122\, United States
CATEGORIES:Club Dance
END:VEVENT
BEGIN:VEVENT
DTSTART;TZID=America/Chicago:20230220T190000
DTEND;TZID=America/Chicago:20230220T210000
DTSTAMP:20260425T063813
CREATED:20221207T235138Z
LAST-MODIFIED:20230125T212850Z
UID:3659-1676919600-1676926800@www.squaredancememphis.com
SUMMARY:Pleasant Hill Promenaders Pirate Dance
DESCRIPTION:Mainstream and Plus Squares with Rounds and Lines between Tips
URL:https://www.squaredancememphis.com/events/pleasant-hill-promenaders-149/
LOCATION:Graceland Christian Church\, 2126 Stateline Rd\, Southaven\, 38672\, United States
CATEGORIES:Club Dance
END:VEVENT
BEGIN:VEVENT
DTSTART;TZID=America/Chicago:20230219T143000
DTEND;TZID=America/Chicago:20230219T163000
DTSTAMP:20260425T063813
CREATED:20221206T002001Z
LAST-MODIFIED:20221206T002001Z
UID:3470-1676817000-1676824200@www.squaredancememphis.com
SUMMARY:T-Squares
DESCRIPTION:Advanced Squares A2-C1
URL:https://www.squaredancememphis.com/events/t-squares-173/
LOCATION:Graceland Christian Church\, 2126 Stateline Rd\, Southaven\, 38672\, United States
CATEGORIES:Club Dance
END:VEVENT
BEGIN:VEVENT
DTSTART;TZID=America/Chicago:20230217T190000
DTEND;TZID=America/Chicago:20230217T210000
DTSTAMP:20260425T063813
CREATED:20221206T001511Z
LAST-MODIFIED:20221206T001511Z
UID:3415-1676660400-1676667600@www.squaredancememphis.com
SUMMARY:B&Bs
DESCRIPTION:Mainstream and Plus Squares
URL:https://www.squaredancememphis.com/events/bbs-145/
LOCATION:Colonial Park United Methodist Church\, 5330 Park Avenue\, Memphis\, 38119\, United States
CATEGORIES:Club Dance
END:VEVENT
BEGIN:VEVENT
DTSTART;TZID=America/Chicago:20230216T200000
DTEND;TZID=America/Chicago:20230216T213000
DTSTAMP:20260425T063813
CREATED:20221206T010918Z
LAST-MODIFIED:20221206T010918Z
UID:3537-1676577600-1676583000@www.squaredancememphis.com
SUMMARY:Top Spinners
DESCRIPTION:Squares with Lines between tips
URL:https://www.squaredancememphis.com/events/top-spinners-137/
LOCATION:Eads Civic Center\, 12365 Washington Rd\, Eads\, 38028\, United States
CATEGORIES:Club Dance
END:VEVENT
BEGIN:VEVENT
DTSTART;TZID=America/Chicago:20230216T184500
DTEND;TZID=America/Chicago:20230216T200000
DTSTAMP:20260425T063813
CREATED:20221206T010847Z
LAST-MODIFIED:20221206T010847Z
UID:3525-1676573100-1676577600@www.squaredancememphis.com
SUMMARY:Top Spinners Class
DESCRIPTION:SSD Class
URL:https://www.squaredancememphis.com/events/top-spinners-class-2/
LOCATION:Eads Civic Center\, 12365 Washington Rd\, Eads\, 38028\, United States
CATEGORIES:Class
END:VEVENT
BEGIN:VEVENT
DTSTART;TZID=America/Chicago:20230215T200000
DTEND;TZID=America/Chicago:20230215T213000
DTSTAMP:20260425T063813
CREATED:20221206T035818Z
LAST-MODIFIED:20221206T035819Z
UID:3558-1676491200-1676496600@www.squaredancememphis.com
SUMMARY:Pistols & Petticoats
DESCRIPTION:Mainstream and Plus Squares with Rounds between Tips
URL:https://www.squaredancememphis.com/events/pistols-petticoats-97/
LOCATION:Bartlett United Methodist Church\, 5676 Stage Rd.\, Bartlett\, 38134\, United States
CATEGORIES:Club Dance
END:VEVENT
BEGIN:VEVENT
DTSTART;TZID=America/Chicago:20230215T190000
DTEND;TZID=America/Chicago:20230215T200000
DTSTAMP:20260425T063813
CREATED:20221206T035849Z
LAST-MODIFIED:20221230T181634Z
UID:3576-1676487600-1676491200@www.squaredancememphis.com
SUMMARY:Pistols & Petticoats Class (3 of 14)
DESCRIPTION:Mainstream Class
URL:https://www.squaredancememphis.com/events/pistols-petticoats-class-3/
LOCATION:Bartlett United Methodist Church\, 5676 Stage Rd.\, Bartlett\, 38134\, United States
CATEGORIES:Class
END:VEVENT
BEGIN:VEVENT
DTSTART;TZID=America/Chicago:20230213T190000
DTEND;TZID=America/Chicago:20230213T210000
DTSTAMP:20260425T063813
CREATED:20221208T000439Z
LAST-MODIFIED:20221208T000439Z
UID:3712-1676314800-1676322000@www.squaredancememphis.com
SUMMARY:Merry-Go-Rounds
DESCRIPTION:Phase II-VI
URL:https://www.squaredancememphis.com/events/merry-go-rounds-145/
LOCATION:Berclair Civic Club\, 743 Novarese Road\, Memphis\, TN\, 38122\, United States
CATEGORIES:Club Dance
END:VEVENT
BEGIN:VEVENT
DTSTART;TZID=America/Chicago:20230213T190000
DTEND;TZID=America/Chicago:20230213T210000
DTSTAMP:20260425T063813
CREATED:20221207T235137Z
LAST-MODIFIED:20230125T212820Z
UID:3658-1676314800-1676322000@www.squaredancememphis.com
SUMMARY:Pleasant Hill Promenaders
DESCRIPTION:Mainstream and Plus Squares with Rounds and Lines between Tips
URL:https://www.squaredancememphis.com/events/pleasant-hill-promenaders-pirate-dance/
LOCATION:Graceland Christian Church\, 2126 Stateline Rd\, Southaven\, 38672\, United States
CATEGORIES:Club Special
END:VEVENT
BEGIN:VEVENT
DTSTART;TZID=America/Chicago:20230212T143000
DTEND;TZID=America/Chicago:20230212T163000
DTSTAMP:20260425T063813
CREATED:20221206T002001Z
LAST-MODIFIED:20221206T002001Z
UID:3469-1676212200-1676219400@www.squaredancememphis.com
SUMMARY:T-Squares
DESCRIPTION:Advanced Squares A2-C1
URL:https://www.squaredancememphis.com/events/t-squares-172/
LOCATION:Graceland Christian Church\, 2126 Stateline Rd\, Southaven\, 38672\, United States
CATEGORIES:Club Dance
END:VEVENT
BEGIN:VEVENT
DTSTART;TZID=America/Chicago:20230211T190000
DTEND;TZID=America/Chicago:20230211T210000
DTSTAMP:20260425T063813
CREATED:20230118T022508Z
LAST-MODIFIED:20230126T155013Z
UID:3784-1676142000-1676149200@www.squaredancememphis.com
SUMMARY:Pistols & Petticoats Mardi Gras Ball
DESCRIPTION:Mainstream & Plus Squares with Rounds between tips
URL:https://www.squaredancememphis.com/events/pistols-petticoats-mardi-gras-ball-2/
LOCATION:Bartlett United Methodist Church\, 5676 Stage Rd.\, Bartlett\, 38134\, United States
CATEGORIES:Club Special
ATTACH;FMTTYPE=application/pdf:https://www.squaredancememphis.com/wp-content/uploads/2023/01/2023.02.11_PP_mardi-gras-flyer.pdf
END:VEVENT
BEGIN:VEVENT
DTSTART;TZID=America/Chicago:20230210T190000
DTEND;TZID=America/Chicago:20230210T210000
DTSTAMP:20260425T063813
CREATED:20221206T001511Z
LAST-MODIFIED:20230121T041418Z
UID:3414-1676055600-1676062800@www.squaredancememphis.com
SUMMARY:B&Bs Souper Bowl Dance
DESCRIPTION:Mainstream and Plus Squares
URL:https://www.squaredancememphis.com/events/bbs-144/
LOCATION:Colonial Park United Methodist Church\, 5330 Park Avenue\, Memphis\, 38119\, United States
CATEGORIES:Club Special
END:VEVENT
BEGIN:VEVENT
DTSTART;TZID=America/Chicago:20230209T200000
DTEND;TZID=America/Chicago:20230209T213000
DTSTAMP:20260425T063813
CREATED:20221206T010918Z
LAST-MODIFIED:20221206T010918Z
UID:3536-1675972800-1675978200@www.squaredancememphis.com
SUMMARY:Top Spinners
DESCRIPTION:Squares with Lines between tips
URL:https://www.squaredancememphis.com/events/top-spinners-136/
LOCATION:Eads Civic Center\, 12365 Washington Rd\, Eads\, 38028\, United States
CATEGORIES:Club Dance
END:VEVENT
BEGIN:VEVENT
DTSTART;TZID=America/Chicago:20230209T184500
DTEND;TZID=America/Chicago:20230209T200000
DTSTAMP:20260425T063813
CREATED:20221206T010847Z
LAST-MODIFIED:20230202T143905Z
UID:3524-1675968300-1675972800@www.squaredancememphis.com
SUMMARY:Top Spinners FREE TN Dance Sampler
DESCRIPTION:SSD Class
URL:https://www.squaredancememphis.com/events/top-spinners-class/
LOCATION:Eads Civic Center\, 12365 Washington Rd\, Eads\, 38028\, United States
CATEGORIES:Class
END:VEVENT
BEGIN:VEVENT
DTSTART;TZID=America/Chicago:20230208T200000
DTEND;TZID=America/Chicago:20230208T213000
DTSTAMP:20260425T063813
CREATED:20221206T035818Z
LAST-MODIFIED:20230118T022250Z
UID:3557-1675886400-1675891800@www.squaredancememphis.com
SUMMARY:Pistols & Petticoats
DESCRIPTION:Mainstream and Plus Squares with Rounds between Tips
URL:https://www.squaredancememphis.com/events/pistols-petticoats-mardi-gras-ball/
LOCATION:Bartlett United Methodist Church\, 5676 Stage Rd.\, Bartlett\, 38134\, United States
CATEGORIES:Club Special
END:VEVENT
BEGIN:VEVENT
DTSTART;TZID=America/Chicago:20230208T190000
DTEND;TZID=America/Chicago:20230208T200000
DTSTAMP:20260425T063813
CREATED:20221206T035849Z
LAST-MODIFIED:20221230T181541Z
UID:3575-1675882800-1675886400@www.squaredancememphis.com
SUMMARY:Pistols & Petticoats Class (2 of 14)
DESCRIPTION:Mainstream Class
URL:https://www.squaredancememphis.com/events/pistols-petticoats-class-2/
LOCATION:Bartlett United Methodist Church\, 5676 Stage Rd.\, Bartlett\, 38134\, United States
CATEGORIES:Class
END:VEVENT
END:VCALENDAR