BEGIN:VCALENDAR
VERSION:2.0
PRODID:-//Greater Memphis Square &amp; Round Dance Association - ECPv6.15.20//NONSGML v1.0//EN
CALSCALE:GREGORIAN
METHOD:PUBLISH
X-WR-CALNAME:Greater Memphis Square &amp; Round Dance Association
X-ORIGINAL-URL:https://www.squaredancememphis.com
X-WR-CALDESC:Events for Greater Memphis Square &amp; Round Dance Association
REFRESH-INTERVAL;VALUE=DURATION:PT1H
X-Robots-Tag:noindex
X-PUBLISHED-TTL:PT1H
BEGIN:VTIMEZONE
TZID:America/Chicago
BEGIN:DAYLIGHT
TZOFFSETFROM:-0600
TZOFFSETTO:-0500
TZNAME:CDT
DTSTART:20210314T080000
END:DAYLIGHT
BEGIN:STANDARD
TZOFFSETFROM:-0500
TZOFFSETTO:-0600
TZNAME:CST
DTSTART:20211107T070000
END:STANDARD
BEGIN:DAYLIGHT
TZOFFSETFROM:-0600
TZOFFSETTO:-0500
TZNAME:CDT
DTSTART:20220313T080000
END:DAYLIGHT
BEGIN:STANDARD
TZOFFSETFROM:-0500
TZOFFSETTO:-0600
TZNAME:CST
DTSTART:20221106T070000
END:STANDARD
BEGIN:DAYLIGHT
TZOFFSETFROM:-0600
TZOFFSETTO:-0500
TZNAME:CDT
DTSTART:20230312T080000
END:DAYLIGHT
BEGIN:STANDARD
TZOFFSETFROM:-0500
TZOFFSETTO:-0600
TZNAME:CST
DTSTART:20231105T070000
END:STANDARD
END:VTIMEZONE
BEGIN:VEVENT
DTSTART;TZID=America/Chicago:20221121T190000
DTEND;TZID=America/Chicago:20221121T210000
DTSTAMP:20260425T215856
CREATED:20220104T033714Z
LAST-MODIFIED:20220104T033714Z
UID:3045-1669057200-1669064400@www.squaredancememphis.com
SUMMARY:Pleasant Hill Promenaders
DESCRIPTION:Mainstream and Plus Squares with Rounds and Lines between Tips
URL:https://www.squaredancememphis.com/events/pleasant-hill-promenaders-138/
LOCATION:Graceland Christian Church\, 2126 Stateline Rd\, Southaven\, 38672\, United States
CATEGORIES:Club Dance
END:VEVENT
BEGIN:VEVENT
DTSTART;TZID=America/Chicago:20221121T190000
DTEND;TZID=America/Chicago:20221121T210000
DTSTAMP:20260425T215856
CREATED:20220104T033429Z
LAST-MODIFIED:20220104T033429Z
UID:2992-1669057200-1669064400@www.squaredancememphis.com
SUMMARY:Merry-Go-Rounds
DESCRIPTION:Phase II-VI
URL:https://www.squaredancememphis.com/events/merry-go-rounds-133/
LOCATION:Berclair Civic Club\, 743 Novarese Road\, Memphis\, TN\, 38122\, United States
CATEGORIES:Club Dance
END:VEVENT
BEGIN:VEVENT
DTSTART;TZID=America/Chicago:20221121T190000
DTEND;TZID=America/Chicago:20221121T200000
DTSTAMP:20260425T215856
CREATED:20220810T205510Z
LAST-MODIFIED:20220810T205510Z
UID:3339-1669057200-1669060800@www.squaredancememphis.com
SUMMARY:Pleasant Hill Promenaders (Class 10 of 12)
DESCRIPTION:Class 7:00-8:00.
URL:https://www.squaredancememphis.com/events/pleasant-hill-promenaders-class-10-of-12/
LOCATION:Graceland Christian Church\, 2126 Stateline Rd\, Southaven\, 38672\, United States
CATEGORIES:Class
END:VEVENT
BEGIN:VEVENT
DTSTART;TZID=America/Chicago:20221120T143000
DTEND;TZID=America/Chicago:20221120T163000
DTSTAMP:20260425T215856
CREATED:20220104T032539Z
LAST-MODIFIED:20220104T032539Z
UID:2937-1668954600-1668961800@www.squaredancememphis.com
SUMMARY:T-Squares
DESCRIPTION:Advanced Squares A2-C1
URL:https://www.squaredancememphis.com/events/t-squares-161/
LOCATION:Graceland Christian Church\, 2126 Stateline Rd\, Southaven\, 38672\, United States
CATEGORIES:Club Dance
END:VEVENT
BEGIN:VEVENT
DTSTART;TZID=America/Chicago:20221119T193000
DTEND;TZID=America/Chicago:20221119T213000
DTSTAMP:20260425T215856
CREATED:20220919T003320Z
LAST-MODIFIED:20221026T201503Z
UID:3356-1668886200-1668893400@www.squaredancememphis.com
SUMMARY:Pistols & Petticoats 56th Anniversary Dance
DESCRIPTION:
URL:https://www.squaredancememphis.com/events/pistols-petticoats-anniversary/
LOCATION:Bartlett United Methodist Church\, 5676 Stage Rd.\, Bartlett\, 38134\, United States
CATEGORIES:Club Special
ATTACH;FMTTYPE=application/pdf:https://www.squaredancememphis.com/wp-content/uploads/2022/09/2022.11.19_PP_56th-Wild-Wild-West-Anniversary.pdf
END:VEVENT
BEGIN:VEVENT
DTSTART;TZID=America/Chicago:20221118T190000
DTEND;TZID=America/Chicago:20221118T210000
DTSTAMP:20260425T215856
CREATED:20220104T031725Z
LAST-MODIFIED:20220104T031725Z
UID:2774-1668798000-1668805200@www.squaredancememphis.com
SUMMARY:B&Bs
DESCRIPTION:Mainstream and Plus Squares with Rounds and Lines between Tips
URL:https://www.squaredancememphis.com/events/bbs-132/
LOCATION:Colonial Park United Methodist Church\, 5330 Park Avenue\, Memphis\, 38119\, United States
CATEGORIES:Club Dance
END:VEVENT
BEGIN:VEVENT
DTSTART;TZID=America/Chicago:20221117T190000
DTEND;TZID=America/Chicago:20221117T210000
DTSTAMP:20260425T215856
CREATED:20220104T031955Z
LAST-MODIFIED:20221112T035326Z
UID:2826-1668711600-1668718800@www.squaredancememphis.com
SUMMARY:Top Spinners CLOSED
DESCRIPTION:Mainstream and Plus Squares with Lines between Tips
URL:https://www.squaredancememphis.com/events/top-spinners-127/
LOCATION:Eads Civic Center\, 12365 Washington Rd\, Eads\, 38028\, United States
CATEGORIES:Club Dance
END:VEVENT
BEGIN:VEVENT
DTSTART;TZID=America/Chicago:20221116T193000
DTEND;TZID=America/Chicago:20221116T213000
DTSTAMP:20260425T215856
CREATED:20220104T032254Z
LAST-MODIFIED:20220104T032254Z
UID:2884-1668627000-1668634200@www.squaredancememphis.com
SUMMARY:Pistols & Petticoats
DESCRIPTION:Mainstream and Plus Squares with Rounds between Tips
URL:https://www.squaredancememphis.com/events/pistols-petticoats-85/
LOCATION:Bartlett United Methodist Church\, 5676 Stage Rd.\, Bartlett\, 38134\, United States
CATEGORIES:Club Dance
END:VEVENT
BEGIN:VEVENT
DTSTART;TZID=America/Chicago:20221116T190000
DTEND;TZID=America/Chicago:20221116T200000
DTSTAMP:20260425T215856
CREATED:20220809T212930Z
LAST-MODIFIED:20220809T212930Z
UID:3319-1668625200-1668628800@www.squaredancememphis.com
SUMMARY:Pistols & Petticoats (Class 12 of 12)
DESCRIPTION:Class 7:00-8:00. Mainstream and Plus Squares with Rounds between Tips 8:00-9:30.
URL:https://www.squaredancememphis.com/events/pistols-petticoats-class-12-of-12-2/
LOCATION:Bartlett United Methodist Church\, 5676 Stage Rd.\, Bartlett\, 38134\, United States
CATEGORIES:Class
END:VEVENT
BEGIN:VEVENT
DTSTART;TZID=America/Chicago:20221114T190000
DTEND;TZID=America/Chicago:20221114T210000
DTSTAMP:20260425T215856
CREATED:20220104T033700Z
LAST-MODIFIED:20220104T033700Z
UID:3044-1668452400-1668459600@www.squaredancememphis.com
SUMMARY:Pleasant Hill Promenaders
DESCRIPTION:Mainstream and Plus Squares with Rounds and Lines between Tips
URL:https://www.squaredancememphis.com/events/pleasant-hill-promenaders-137/
LOCATION:Graceland Christian Church\, 2126 Stateline Rd\, Southaven\, 38672\, United States
CATEGORIES:Club Dance
END:VEVENT
BEGIN:VEVENT
DTSTART;TZID=America/Chicago:20221114T190000
DTEND;TZID=America/Chicago:20221114T210000
DTSTAMP:20260425T215856
CREATED:20220104T033429Z
LAST-MODIFIED:20220104T033429Z
UID:2991-1668452400-1668459600@www.squaredancememphis.com
SUMMARY:Merry-Go-Rounds
DESCRIPTION:Phase II-VI
URL:https://www.squaredancememphis.com/events/merry-go-rounds-132/
LOCATION:Berclair Civic Club\, 743 Novarese Road\, Memphis\, TN\, 38122\, United States
CATEGORIES:Club Dance
END:VEVENT
BEGIN:VEVENT
DTSTART;TZID=America/Chicago:20221114T190000
DTEND;TZID=America/Chicago:20221114T200000
DTSTAMP:20260425T215856
CREATED:20220810T205509Z
LAST-MODIFIED:20220810T205509Z
UID:3338-1668452400-1668456000@www.squaredancememphis.com
SUMMARY:Pleasant Hill Promenaders (Class 9 of 12)
DESCRIPTION:Class 7:00-8:00.
URL:https://www.squaredancememphis.com/events/pleasant-hill-promenaders-class-9-of-12/
LOCATION:Graceland Christian Church\, 2126 Stateline Rd\, Southaven\, 38672\, United States
CATEGORIES:Class
END:VEVENT
BEGIN:VEVENT
DTSTART;TZID=America/Chicago:20221113T143000
DTEND;TZID=America/Chicago:20221113T163000
DTSTAMP:20260425T215856
CREATED:20220104T032525Z
LAST-MODIFIED:20220104T032525Z
UID:2936-1668349800-1668357000@www.squaredancememphis.com
SUMMARY:T-Squares
DESCRIPTION:Advanced Squares A2-C1
URL:https://www.squaredancememphis.com/events/t-squares-160/
LOCATION:Graceland Christian Church\, 2126 Stateline Rd\, Southaven\, 38672\, United States
CATEGORIES:Club Dance
END:VEVENT
BEGIN:VEVENT
DTSTART;TZID=America/Chicago:20221111T190000
DTEND;TZID=America/Chicago:20221111T210000
DTSTAMP:20260425T215856
CREATED:20220104T031724Z
LAST-MODIFIED:20220203T172404Z
UID:2773-1668193200-1668200400@www.squaredancememphis.com
SUMMARY:B&Bs Veteran's Day Dance
DESCRIPTION:Mainstream and Plus Squares with Rounds and Lines between Tips
URL:https://www.squaredancememphis.com/events/bbs-131/
LOCATION:Colonial Park United Methodist Church\, 5330 Park Avenue\, Memphis\, 38119\, United States
CATEGORIES:Club Special
END:VEVENT
BEGIN:VEVENT
DTSTART;TZID=America/Chicago:20221110T190000
DTEND;TZID=America/Chicago:20221110T210000
DTSTAMP:20260425T215856
CREATED:20220104T031955Z
LAST-MODIFIED:20220104T031955Z
UID:2825-1668106800-1668114000@www.squaredancememphis.com
SUMMARY:Top Spinners
DESCRIPTION:Mainstream and Plus Squares with Lines between Tips
URL:https://www.squaredancememphis.com/events/top-spinners-126/
LOCATION:Eads Civic Center\, 12365 Washington Rd\, Eads\, 38028\, United States
CATEGORIES:Club Dance
END:VEVENT
BEGIN:VEVENT
DTSTART;TZID=America/Chicago:20221110T184500
DTEND;TZID=America/Chicago:20221110T200000
DTSTAMP:20260425T215856
CREATED:20220809T212011Z
LAST-MODIFIED:20220809T212011Z
UID:3305-1668105900-1668110400@www.squaredancememphis.com
SUMMARY:Top Spinners (Class 12 of 12)
DESCRIPTION:Class 6:45-8:00. Mainstream and Plus Squares with Lines between Tips 8:00-9:00.
URL:https://www.squaredancememphis.com/events/top-spinners-class-12-of-12-3/
LOCATION:Eads Civic Center\, 12365 Washington Rd\, Eads\, 38028\, United States
CATEGORIES:Class
END:VEVENT
BEGIN:VEVENT
DTSTART;TZID=America/Chicago:20221109T193000
DTEND;TZID=America/Chicago:20221109T213000
DTSTAMP:20260425T215856
CREATED:20220104T032254Z
LAST-MODIFIED:20220104T032254Z
UID:2883-1668022200-1668029400@www.squaredancememphis.com
SUMMARY:Pistols & Petticoats
DESCRIPTION:Mainstream and Plus Squares with Rounds between Tips
URL:https://www.squaredancememphis.com/events/pistols-petticoats-84/
LOCATION:Bartlett United Methodist Church\, 5676 Stage Rd.\, Bartlett\, 38134\, United States
CATEGORIES:Club Dance
END:VEVENT
BEGIN:VEVENT
DTSTART;TZID=America/Chicago:20221109T190000
DTEND;TZID=America/Chicago:20221109T200000
DTSTAMP:20260425T215856
CREATED:20220809T212930Z
LAST-MODIFIED:20220809T212930Z
UID:3318-1668020400-1668024000@www.squaredancememphis.com
SUMMARY:Pistols & Petticoats (Class 11 of 12)
DESCRIPTION:Class 7:00-8:00. Mainstream and Plus Squares with Rounds between Tips 8:00-9:30.
URL:https://www.squaredancememphis.com/events/pistols-petticoats-class-11-of-12-3/
LOCATION:Bartlett United Methodist Church\, 5676 Stage Rd.\, Bartlett\, 38134\, United States
CATEGORIES:Class
END:VEVENT
BEGIN:VEVENT
DTSTART;TZID=America/Chicago:20221107T190000
DTEND;TZID=America/Chicago:20221107T210000
DTSTAMP:20260425T215856
CREATED:20220104T033659Z
LAST-MODIFIED:20220104T033659Z
UID:3043-1667847600-1667854800@www.squaredancememphis.com
SUMMARY:Pleasant Hill Promenaders
DESCRIPTION:Mainstream and Plus Squares with Rounds and Lines between Tips
URL:https://www.squaredancememphis.com/events/pleasant-hill-promenaders-136/
LOCATION:Graceland Christian Church\, 2126 Stateline Rd\, Southaven\, 38672\, United States
CATEGORIES:Club Dance
END:VEVENT
BEGIN:VEVENT
DTSTART;TZID=America/Chicago:20221107T190000
DTEND;TZID=America/Chicago:20221107T210000
DTSTAMP:20260425T215856
CREATED:20220104T033429Z
LAST-MODIFIED:20220104T033429Z
UID:2990-1667847600-1667854800@www.squaredancememphis.com
SUMMARY:Merry-Go-Rounds
DESCRIPTION:Phase II-VI
URL:https://www.squaredancememphis.com/events/merry-go-rounds-131/
LOCATION:Berclair Civic Club\, 743 Novarese Road\, Memphis\, TN\, 38122\, United States
CATEGORIES:Club Dance
END:VEVENT
BEGIN:VEVENT
DTSTART;TZID=America/Chicago:20221107T190000
DTEND;TZID=America/Chicago:20221107T200000
DTSTAMP:20260425T215856
CREATED:20220810T205507Z
LAST-MODIFIED:20220810T205507Z
UID:3337-1667847600-1667851200@www.squaredancememphis.com
SUMMARY:Pleasant Hill Promenaders (Class 8 of 12)
DESCRIPTION:Class 7:00-8:00.
URL:https://www.squaredancememphis.com/events/pleasant-hill-promenaders-class-8-of-12/
LOCATION:Graceland Christian Church\, 2126 Stateline Rd\, Southaven\, 38672\, United States
CATEGORIES:Class
END:VEVENT
BEGIN:VEVENT
DTSTART;TZID=America/Chicago:20221106T143000
DTEND;TZID=America/Chicago:20221106T163000
DTSTAMP:20260425T215856
CREATED:20220104T032525Z
LAST-MODIFIED:20220104T032525Z
UID:2935-1667745000-1667752200@www.squaredancememphis.com
SUMMARY:T-Squares
DESCRIPTION:Advanced Squares A2-C1
URL:https://www.squaredancememphis.com/events/t-squares-159/
LOCATION:Graceland Christian Church\, 2126 Stateline Rd\, Southaven\, 38672\, United States
CATEGORIES:Club Dance
END:VEVENT
BEGIN:VEVENT
DTSTART;TZID=America/Chicago:20221104T190000
DTEND;TZID=America/Chicago:20221104T210000
DTSTAMP:20260425T215856
CREATED:20220104T031724Z
LAST-MODIFIED:20220104T031724Z
UID:2772-1667588400-1667595600@www.squaredancememphis.com
SUMMARY:B&Bs
DESCRIPTION:Mainstream and Plus Squares with Rounds and Lines between Tips
URL:https://www.squaredancememphis.com/events/bbs-130/
LOCATION:Colonial Park United Methodist Church\, 5330 Park Avenue\, Memphis\, 38119\, United States
CATEGORIES:Club Dance
END:VEVENT
BEGIN:VEVENT
DTSTART;TZID=America/Chicago:20221103T190000
DTEND;TZID=America/Chicago:20221103T210000
DTSTAMP:20260425T215856
CREATED:20220104T031955Z
LAST-MODIFIED:20220104T031955Z
UID:2824-1667502000-1667509200@www.squaredancememphis.com
SUMMARY:Top Spinners
DESCRIPTION:Mainstream and Plus Squares with Lines between Tips
URL:https://www.squaredancememphis.com/events/top-spinners-125/
LOCATION:Eads Civic Center\, 12365 Washington Rd\, Eads\, 38028\, United States
CATEGORIES:Club Dance
END:VEVENT
BEGIN:VEVENT
DTSTART;TZID=America/Chicago:20221103T184500
DTEND;TZID=America/Chicago:20221103T200000
DTSTAMP:20260425T215856
CREATED:20220809T212011Z
LAST-MODIFIED:20220809T212011Z
UID:3304-1667501100-1667505600@www.squaredancememphis.com
SUMMARY:Top Spinners (Class 11 of 12)
DESCRIPTION:Class 6:45-8:00. Mainstream and Plus Squares with Lines between Tips 8:00-9:00.
URL:https://www.squaredancememphis.com/events/top-spinners-class-11-of-12-3/
LOCATION:Eads Civic Center\, 12365 Washington Rd\, Eads\, 38028\, United States
CATEGORIES:Class
END:VEVENT
BEGIN:VEVENT
DTSTART;TZID=America/Chicago:20221102T193000
DTEND;TZID=America/Chicago:20221102T213000
DTSTAMP:20260425T215856
CREATED:20220104T032254Z
LAST-MODIFIED:20220104T032254Z
UID:2882-1667417400-1667424600@www.squaredancememphis.com
SUMMARY:Pistols & Petticoats
DESCRIPTION:Mainstream and Plus Squares with Rounds between Tips
URL:https://www.squaredancememphis.com/events/pistols-petticoats-83/
LOCATION:Bartlett United Methodist Church\, 5676 Stage Rd.\, Bartlett\, 38134\, United States
CATEGORIES:Club Dance
END:VEVENT
BEGIN:VEVENT
DTSTART;TZID=America/Chicago:20221102T190000
DTEND;TZID=America/Chicago:20221102T200000
DTSTAMP:20260425T215856
CREATED:20220809T212916Z
LAST-MODIFIED:20220809T212916Z
UID:3317-1667415600-1667419200@www.squaredancememphis.com
SUMMARY:Pistols & Petticoats (Class 10 of 12)
DESCRIPTION:Class 7:00-8:00. Mainstream and Plus Squares with Rounds between Tips 8:00-9:30.
URL:https://www.squaredancememphis.com/events/pistols-petticoats-class-10-of-12-3/
LOCATION:Bartlett United Methodist Church\, 5676 Stage Rd.\, Bartlett\, 38134\, United States
CATEGORIES:Class
END:VEVENT
BEGIN:VEVENT
DTSTART;TZID=America/Chicago:20221031T190000
DTEND;TZID=America/Chicago:20221031T210000
DTSTAMP:20260425T215856
CREATED:20220104T033659Z
LAST-MODIFIED:20220203T172214Z
UID:3042-1667242800-1667250000@www.squaredancememphis.com
SUMMARY:Pleasant Hill Promenaders Halloween Costume Party
DESCRIPTION:Mainstream and Plus Squares with Rounds and Lines between Tips
URL:https://www.squaredancememphis.com/events/pleasant-hill-promenaders-halloween-dance/
LOCATION:Graceland Christian Church\, 2126 Stateline Rd\, Southaven\, 38672\, United States
CATEGORIES:Club Special
END:VEVENT
BEGIN:VEVENT
DTSTART;TZID=America/Chicago:20221031T190000
DTEND;TZID=America/Chicago:20221031T210000
DTSTAMP:20260425T215856
CREATED:20220104T033415Z
LAST-MODIFIED:20220104T033415Z
UID:2989-1667242800-1667250000@www.squaredancememphis.com
SUMMARY:Merry-Go-Rounds
DESCRIPTION:Phase II-VI
URL:https://www.squaredancememphis.com/events/merry-go-rounds-130/
LOCATION:Berclair Civic Club\, 743 Novarese Road\, Memphis\, TN\, 38122\, United States
CATEGORIES:Club Dance
END:VEVENT
BEGIN:VEVENT
DTSTART;TZID=America/Chicago:20221031T190000
DTEND;TZID=America/Chicago:20221031T200000
DTSTAMP:20260425T215856
CREATED:20220810T205505Z
LAST-MODIFIED:20220810T205505Z
UID:3336-1667242800-1667246400@www.squaredancememphis.com
SUMMARY:Pleasant Hill Promenaders (Class 7 of 12)
DESCRIPTION:Class 7:00-8:00.
URL:https://www.squaredancememphis.com/events/pleasant-hill-promenaders-class-7-of-12/
LOCATION:Graceland Christian Church\, 2126 Stateline Rd\, Southaven\, 38672\, United States
CATEGORIES:Class
END:VEVENT
END:VCALENDAR